{"text_format":"2","workbook":"xlsx","n_sheets":1,"sheets":["Autofill Bid "],"not_rendered":{"charts":0,"images":0,"macros":0,"external_links":1,"defined_names":0,"comments":0,"pivot_tables":0},"unopened":[],"bounds":{"document_bytes":16777216,"sheet_cells":100000,"run_cost":"one","rows_first":2000,"rows_last":500,"rows_between":2000,"halvings":0,"cell_chars":16384,"cell_head_chars":4096},"cells_cut":0,"cells_raw":0,"read":"whole","date_system":"1900"}

{"sheet":"Autofill Bid ","index":0,"n_rows":267,"n_cols":7,"rows_kept":267,"cut":false,"hidden":false,"merged":[[250,1,250,3],[250,5,250,6],[264,5,264,6],[266,5,266,6],[219,1,219,3],[220,1,220,3],[220,5,220,6],[247,0,247,6],[248,0,248,6],[249,1,249,3],[218,0,218,6],[155,0,155,6],[156,0,156,6],[157,1,157,3],[158,1,158,3],[158,5,158,6],[186,0,186,6],[187,0,187,6],[188,1,188,3],[189,1,189,3],[189,5,189,6],[217,0,217,6],[127,1,127,3],[127,5,127,6],[64,1,64,3],[65,1,65,3],[65,5,65,6],[93,0,93,6],[94,0,94,6],[95,1,95,3],[96,1,96,3],[96,5,96,6],[124,0,124,6],[125,0,125,6],[126,1,126,3],[63,0,63,6],[0,0,0,6],[1,0,1,6],[2,1,2,3],[3,1,3,3],[3,5,3,6],[31,0,31,6],[32,0,32,6],[33,1,33,3],[34,1,34,3],[34,5,34,6],[62,0,62,6]]}
["ROAD BIDDING BLANK"]
[]
["To:","Board of Commissioners"]
[null,{"$f":"[1]Estimate!A3","v":"Henry County Engineer"},null,null,null,"3.10.26"]
[null,"Henry County, Ohio"]
[]
[{"$f":"[1]Estimate!A6","v":"Road F from Road 17 to Road 19"}]
[{"$f":"[1]Estimate!A7","v":"Length:  10320 Feet or 1.95 Mile(s)"}]
[{"$f":"[1]Estimate!A8","v":"Width:  16 Feet     (Approx. 18465 S.Y. including radius and driveway work)"}]
[{"$f":"[1]Estimate!A9","v":"Type: ODOT Spec 823 "}]
[]
["Ref. #","Item","Quantity ","Unit","Description","Unit Price","Total Price"]
[{"$f":"[1]Estimate!A12","v":1},{"$f":"[1]Estimate!B12","v":407},{"$f":"[1]Estimate!C12","v":1850},{"$f":"[1]Estimate!D12","v":"Gal"},{"$f":"[1]Estimate!E12","v":"Bituminous Tack Coat applied at 0.05 gallons per square yard"},"$ ____________",{"$f":"F13*C13","v":{"$error":"#VALUE!"}}]
[{"$f":"A13+1","v":2},{"$f":"[1]Estimate!B13","v":823},{"$f":"[1]Estimate!C13","v":257},{"$f":"[1]Estimate!D13","v":"C.Y."},{"$f":"[1]Estimate!E13","v":"Asphalt intermediate course PG 64-22, Type 1 (823) applied, spread and compacted at the average depth of 0.5 inches"},"$ ____________",{"$f":"F14*C14","v":{"$error":"#VALUE!"}}]
[{"$f":"[1]Estimate!A14","v":3},{"$f":"[1]Estimate!B14","v":823},{"$f":"[1]Estimate!C14","v":642},{"$f":"[1]Estimate!D14","v":"C.Y."},{"$f":"[1]Estimate!E14","v":"Asphalt concrete surface course PG 64-22, Type 1 (823) applied, spread and compacted at the average depth of 1.25 inches"},"$ ____________",{"$error":"#VALUE!"}]
[{"$f":"[1]Estimate!A15","v":4},{"$f":"[1]Estimate!B15","v":254},{"$f":"[1]Estimate!C15","v":236},{"$f":"[1]Estimate!D15","v":"S.Y."},{"$f":"[1]Estimate!E15","v":"Pavement Planing ( 20' milled including radius)"},"$ ____________",{"$error":"#VALUE!"}]
[{"$f":"[1]Estimate!A16","v":5},{"$f":"[1]Estimate!B16","v":614},{"$f":"[1]Estimate!C16","v":1},{"$f":"[1]Estimate!D16","v":"L.S."},{"$f":"[1]Estimate!E16","v":"Maintaining Traffic"},"$ ____________",{"$error":"#VALUE!"}]
[{"$f":"[1]Estimate!A17","v":6},{"$f":"[1]Estimate!B17","v":624},{"$f":"[1]Estimate!C17","v":1},{"$f":"[1]Estimate!D17","v":"L.S."},{"$f":"[1]Estimate!E17","v":"Mobilization"},"$ ____________",{"$error":"#VALUE!"}]
[{"$f":"[1]Estimate!A18","v":7},{"$f":"[1]Estimate!B18","v":103.05},{"$f":"[1]Estimate!C18","v":1},{"$f":"[1]Estimate!D18","v":"L.S."},{"$f":"[1]Estimate!E18","v":"Contract Performance & Payment Bond"},"$ ____________",{"$error":"#VALUE!"}]
[{"$f":"[1]Estimate!A19","v":8},{"$f":"[1]Estimate!B19","v":""},{"$f":"[1]Estimate!C19","v":""},{"$f":"[1]Estimate!D19","v":""},{"$f":"[1]Estimate!E19","v":""},"$ ____________","$ ______________"]
[{"$f":"[1]Estimate!A20","v":9},{"$f":"[1]Estimate!B20","v":""},{"$f":"[1]Estimate!C20","v":""},{"$f":"[1]Estimate!D20","v":""},{"$f":"[1]Estimate!E20","v":""},"$ ____________","$ ______________"]
[{"$f":"[1]Estimate!A21","v":10},{"$f":"[1]Estimate!B21","v":""},{"$f":"[1]Estimate!C21","v":""},{"$f":"[1]Estimate!D21","v":""},{"$f":"[1]Estimate!E21","v":""},"$ ____________","$ ______________"]
[{"$f":"[1]Estimate!A22","v":11},{"$f":"[1]Estimate!B22","v":""},{"$f":"[1]Estimate!C22","v":""},{"$f":"[1]Estimate!D22","v":""},{"$f":"[1]Estimate!E22","v":""},"$ ____________","$ ______________"]
[{"$f":"[1]Estimate!A23","v":12},{"$f":"[1]Estimate!B23","v":""},{"$f":"[1]Estimate!C23","v":""},{"$f":"[1]Estimate!D23","v":""},{"$f":"[1]Estimate!E23","v":""},"$ ____________","$ ______________"]
[{"$f":"[1]Estimate!A24","v":13},{"$f":"[1]Estimate!B24","v":""},{"$f":"[1]Estimate!C24","v":""},{"$f":"[1]Estimate!D24","v":""},{"$f":"[1]Estimate!E24","v":""},"$ ____________","$ ______________"]
[{"$f":"[1]Estimate!A25","v":14},{"$f":"[1]Estimate!B25","v":""},{"$f":"[1]Estimate!C25","v":""},{"$f":"[1]Estimate!D25","v":""},{"$f":"[1]Estimate!E25","v":""},"$ ____________","$ ______________"]
[{"$f":"[1]Estimate!A26","v":15},{"$f":"[1]Estimate!B26","v":""},{"$f":"[1]Estimate!C26","v":""},{"$f":"[1]Estimate!D26","v":""},{"$f":"[1]Estimate!E26","v":""},"$ ____________","$ ______________"]
[{"$f":"[1]Estimate!A27","v":16},{"$f":"[1]Estimate!B27","v":""},{"$f":"[1]Estimate!C27","v":""},{"$f":"[1]Estimate!D27","v":""},{"$f":"[1]Estimate!E27","v":""},"$ ____________","$ ______________"]
[{"$nulls":4},"Total Bid",null,{"$f":"SUM(G13:G19)","v":{"$error":"#VALUE!"}}]
[]
[]
["ROAD BIDDING BLANK"]
[]
["To:","Board of Commissioners"]
[null,{"$f":"B4","v":"Henry County Engineer"},null,null,null,{"$f":"F4","v":"3.10.26"}]
[null,"Henry County, Ohio"]
[]
[{"$f":"[1]Estimate!A37","v":"Road 10A from SR 18 to SR 281"}]
[{"$f":"[1]Estimate!A38","v":"Length:  11365 Feet or 2.15 Mile(s)"}]
[{"$f":"[1]Estimate!A39","v":"Width:  18 Feet     (Approx. 22865 S.Y. including radius and driveway work)"}]
[{"$f":"[1]Estimate!A40","v":"Type: ODOT Spec 823 "}]
[]
["Ref. #","Item","Quantity ","Unit","Description","Unit Price","Total Price"]
[{"$f":"[1]Estimate!A43","v":1},{"$f":"[1]Estimate!B43","v":407},{"$f":"[1]Estimate!C43","v":2290},{"$f":"[1]Estimate!D43","v":"Gal"},{"$f":"[1]Estimate!E43","v":"Bituminous Tack Coat applied at 0.05 gallons per square yard"},"$ ____________",{"$f":"F44*C44","v":{"$error":"#VALUE!"}}]
[{"$f":"A44+1","v":2},{"$f":"[1]Estimate!B44","v":823},{"$f":"[1]Estimate!C44","v":318},{"$f":"[1]Estimate!D44","v":"C.Y."},{"$f":"[1]Estimate!E44","v":"Asphalt intermediate course PG 64-22, Type 1 (823) applied, spread and compacted at the average depth of 0.5 inches"},"$ ____________",{"$f":"F45*C45","v":{"$error":"#VALUE!"}}]
[{"$f":"[1]Estimate!A45","v":3},{"$f":"[1]Estimate!B45","v":823},{"$f":"[1]Estimate!C45","v":794},{"$f":"[1]Estimate!D45","v":"C.Y."},{"$f":"[1]Estimate!E45","v":"Asphalt concrete surface course PG 64-22, Type 1 (823) applied, spread and compacted at the average depth of 1.25 inches"},"$ ____________",{"$error":"#VALUE!"}]
[{"$f":"[1]Estimate!A46","v":4},{"$f":"[1]Estimate!B46","v":254},{"$f":"[1]Estimate!C46","v":450},{"$f":"[1]Estimate!D46","v":"S.Y."},{"$f":"[1]Estimate!E46","v":"Pavement Planing ( 20' milled including radius)"},"$ ____________",{"$error":"#VALUE!"}]
[{"$f":"[1]Estimate!A47","v":5},{"$f":"[1]Estimate!B47","v":614},{"$f":"[1]Estimate!C47","v":1},{"$f":"[1]Estimate!D47","v":"L.S."},{"$f":"[1]Estimate!E47","v":"Maintaining Traffic"},"$ ____________",{"$error":"#VALUE!"}]
[{"$f":"[1]Estimate!A48","v":6},{"$f":"[1]Estimate!B48","v":624},{"$f":"[1]Estimate!C48","v":1},{"$f":"[1]Estimate!D48","v":"L.S."},{"$f":"[1]Estimate!E48","v":"Mobilization"},"$ ____________",{"$error":"#VALUE!"}]
[{"$f":"[1]Estimate!A49","v":7},{"$f":"[1]Estimate!B49","v":103.05},{"$f":"[1]Estimate!C49","v":1},{"$f":"[1]Estimate!D49","v":"L.S."},{"$f":"[1]Estimate!E49","v":"Contract Performance & Payment Bond"},"$ ____________",{"$error":"#VALUE!"}]
[{"$f":"[1]Estimate!A50","v":8},{"$f":"[1]Estimate!B50","v":""},{"$f":"[1]Estimate!C50","v":""},{"$f":"[1]Estimate!D50","v":""},{"$f":"[1]Estimate!E50","v":""},"$ ____________","$ ______________"]
[{"$f":"[1]Estimate!A51","v":9},{"$f":"[1]Estimate!B51","v":""},{"$f":"[1]Estimate!C51","v":""},{"$f":"[1]Estimate!D51","v":""},{"$f":"[1]Estimate!E51","v":""},"$ ____________","$ ______________"]
[{"$f":"[1]Estimate!A52","v":10},{"$f":"[1]Estimate!B52","v":""},{"$f":"[1]Estimate!C52","v":""},{"$f":"[1]Estimate!D52","v":""},{"$f":"[1]Estimate!E52","v":""},"$ ____________","$ ______________"]
[{"$f":"[1]Estimate!A53","v":11},{"$f":"[1]Estimate!B53","v":""},{"$f":"[1]Estimate!C53","v":""},{"$f":"[1]Estimate!D53","v":""},{"$f":"[1]Estimate!E53","v":""},"$ ____________","$ ______________"]
[{"$f":"[1]Estimate!A54","v":12},{"$f":"[1]Estimate!B54","v":""},{"$f":"[1]Estimate!C54","v":""},{"$f":"[1]Estimate!D54","v":""},{"$f":"[1]Estimate!E54","v":""},"$ ____________","$ ______________"]
[{"$f":"[1]Estimate!A55","v":13},{"$f":"[1]Estimate!B55","v":""},{"$f":"[1]Estimate!C55","v":""},{"$f":"[1]Estimate!D55","v":""},{"$f":"[1]Estimate!E55","v":""},"$ ____________","$ ______________"]
[{"$f":"[1]Estimate!A56","v":14},{"$f":"[1]Estimate!B56","v":""},{"$f":"[1]Estimate!C56","v":""},{"$f":"[1]Estimate!D56","v":""},{"$f":"[1]Estimate!E56","v":""},"$ ____________","$ ______________"]
[{"$f":"[1]Estimate!A57","v":15},{"$f":"[1]Estimate!B57","v":""},{"$f":"[1]Estimate!C57","v":""},{"$f":"[1]Estimate!D57","v":""},{"$f":"[1]Estimate!E57","v":""},"$ ____________","$ ______________"]
[{"$f":"[1]Estimate!A58","v":16},{"$f":"[1]Estimate!B58","v":""},{"$f":"[1]Estimate!C58","v":""},{"$f":"[1]Estimate!D58","v":""},{"$f":"[1]Estimate!E58","v":""},"$ ____________","$ ______________"]
[{"$nulls":4},"Total Bid",null,{"$f":"SUM(G44:G50)","v":{"$error":"#VALUE!"}}]
[]
[]
["ROAD BIDDING BLANK"]
[]
["To:","Board of Commissioners"]
[null,{"$f":"B35","v":"Henry County Engineer"},null,null,null,{"$f":"F35","v":"3.10.26"}]
[null,"Henry County, Ohio"]
[]
[{"$f":"[1]Estimate!A68","v":"Road S from SR 108 to Road 13"}]
[{"$f":"[1]Estimate!A69","v":"Length:  5255 Feet or 1 Mile(s)"}]
[{"$f":"[1]Estimate!A70","v":"Width:  18 Feet     (Approx. 10595 S.Y. including radius and driveway work)"}]
[{"$f":"[1]Estimate!A71","v":"Type: ODOT Spec 823 "}]
[]
["Ref. #","Item","Quantity ","Unit","Description","Unit Price","Total Price"]
[{"$f":"[1]Estimate!A74","v":1},{"$f":"[1]Estimate!B74","v":407},{"$f":"[1]Estimate!C74","v":1060},{"$f":"[1]Estimate!D74","v":"Gal"},{"$f":"[1]Estimate!E74","v":"Bituminous Tack Coat applied at 0.05 gallons per square yard"},"$ ____________",{"$f":"F75*C75","v":{"$error":"#VALUE!"}}]
[{"$f":"[1]Estimate!A75","v":2},{"$f":"[1]Estimate!B75","v":823},{"$f":"[1]Estimate!C75","v":148},{"$f":"[1]Estimate!D75","v":"C.Y."},{"$f":"[1]Estimate!E75","v":"Asphalt intermediate course PG 64-22, Type 1 (823) applied, spread and compacted at the average depth of 0.5 inches"},"$ ____________",{"$f":"F76*C76","v":{"$error":"#VALUE!"}}]
[{"$f":"[1]Estimate!A76","v":3},{"$f":"[1]Estimate!B76","v":823},{"$f":"[1]Estimate!C76","v":368},{"$f":"[1]Estimate!D76","v":"C.Y."},{"$f":"[1]Estimate!E76","v":"Asphalt concrete surface course PG 64-22, Type 1 (823) applied, spread and compacted at the average depth of 1.25 inches"},"$ ____________",{"$error":"#VALUE!"}]
[{"$f":"[1]Estimate!A77","v":4},{"$f":"[1]Estimate!B77","v":254},{"$f":"[1]Estimate!C77","v":220},{"$f":"[1]Estimate!D77","v":"S.Y."},{"$f":"[1]Estimate!E77","v":"Pavement Planing ( 20' milled including radius)"},"$ ____________",{"$error":"#VALUE!"}]
[{"$f":"[1]Estimate!A78","v":5},{"$f":"[1]Estimate!B78","v":614},{"$f":"[1]Estimate!C78","v":1},{"$f":"[1]Estimate!D78","v":"L.S."},{"$f":"[1]Estimate!E78","v":"Maintaining Traffic"},"$ ____________",{"$error":"#VALUE!"}]
[{"$f":"[1]Estimate!A79","v":6},{"$f":"[1]Estimate!B79","v":624},{"$f":"[1]Estimate!C79","v":1},{"$f":"[1]Estimate!D79","v":"L.S."},{"$f":"[1]Estimate!E79","v":"Mobilization"},"$ ____________",{"$error":"#VALUE!"}]
[{"$f":"[1]Estimate!A80","v":7},{"$f":"[1]Estimate!B80","v":103.05},{"$f":"[1]Estimate!C80","v":1},{"$f":"[1]Estimate!D80","v":"L.S."},{"$f":"[1]Estimate!E80","v":"Contract Performance & Payment Bond"},"$ ____________",{"$error":"#VALUE!"}]
[{"$f":"[1]Estimate!A81","v":8},614,1,"L.S.","Maintaining Traffic","$ ____________","$ ______________"]
[{"$f":"[1]Estimate!A82","v":9},624,1,"L.S.","Mobilization","$ ____________","$ ______________"]
[{"$f":"[1]Estimate!A83","v":10},103.05,1,"L.S.","Contract Performance & Payment Bond","$ ____________","$ ______________"]
[{"$f":"[1]Estimate!A84","v":11},{"$f":"[1]Estimate!B84","v":""},{"$f":"[1]Estimate!C84","v":""},{"$f":"[1]Estimate!D84","v":""},{"$f":"[1]Estimate!E84","v":""},"$ ____________","$ ______________"]
[{"$f":"[1]Estimate!A85","v":12},{"$f":"[1]Estimate!B85","v":""},{"$f":"[1]Estimate!C85","v":""},{"$f":"[1]Estimate!D85","v":""},{"$f":"[1]Estimate!E85","v":""},"$ ____________","$ ______________"]
[{"$f":"[1]Estimate!A86","v":13},{"$f":"[1]Estimate!B86","v":""},{"$f":"[1]Estimate!C86","v":""},{"$f":"[1]Estimate!D86","v":""},{"$f":"[1]Estimate!E86","v":""},"$ ____________","$ ______________"]
[{"$f":"[1]Estimate!A87","v":14},{"$f":"[1]Estimate!B87","v":""},{"$f":"[1]Estimate!C87","v":""},{"$f":"[1]Estimate!D87","v":""},{"$f":"[1]Estimate!E87","v":""},"$ ____________","$ ______________"]
[{"$f":"[1]Estimate!A88","v":15},{"$f":"[1]Estimate!B88","v":""},{"$f":"[1]Estimate!C88","v":""},{"$f":"[1]Estimate!D88","v":""},{"$f":"[1]Estimate!E88","v":""},"$ ____________","$ ______________"]
[{"$f":"[1]Estimate!A89","v":16},{"$f":"[1]Estimate!B89","v":""},{"$f":"[1]Estimate!C89","v":""},{"$f":"[1]Estimate!D89","v":""},{"$f":"[1]Estimate!E89","v":""},"$ ____________","$ ______________"]
[{"$nulls":4},"Total Bid",null,{"$f":"SUM(G75:G81)","v":{"$error":"#VALUE!"}}]
[]
[]
["ROAD BIDDING BLANK"]
[]
["To:","Board of Commissioners"]
[null,{"$f":"B66","v":"Henry County Engineer"},null,null,null,{"$f":"F66","v":"3.10.26"}]
[null,"Henry County, Ohio"]
[]
[{"$f":"[1]Estimate!A99","v":"Road 24 from US 6 to Road S"}]
[{"$f":"[1]Estimate!A100","v":"Length:  5215 Feet or 0.99 Mile(s)"}]
[{"$f":"[1]Estimate!A101","v":"Width:  20 Feet     (Approx. 11665 S.Y. including radius and driveway work)"}]
[{"$f":"[1]Estimate!A102","v":"Type: ODOT Spec 823"}]
[]
["Ref. #","Item","Quantity ","Unit","Description","Unit Price","Total Price"]
[{"$f":"[1]Estimate!A105","v":1},{"$f":"[1]Estimate!B105","v":407},{"$f":"[1]Estimate!C105","v":1170},{"$f":"[1]Estimate!D105","v":"Gal"},{"$f":"[1]Estimate!E105","v":"Bituminous Tack Coat applied at 0.05 gallons per square yard"},"$ ____________",{"$f":"F106*C106","v":{"$error":"#VALUE!"}}]
[{"$f":"A106+1","v":2},{"$f":"[1]Estimate!B106","v":823},{"$f":"[1]Estimate!C106","v":162},{"$f":"[1]Estimate!D106","v":"CY"},{"$f":"[1]Estimate!E106","v":"Asphalt intermediate course PG 64-22, Type 1 (823) applied, spread and compacted at the average depth of 0.5 inches"},"$ ____________",{"$f":"F107*C107","v":{"$error":"#VALUE!"}}]
[{"$f":"[1]Estimate!A107","v":3},{"$f":"[1]Estimate!B107","v":823},{"$f":"[1]Estimate!C107","v":405},{"$f":"[1]Estimate!D107","v":"CY"},{"$f":"[1]Estimate!E107","v":"Asphalt concrete surface course PG 64-22, Type 1 (823) applied, spread and compacted at the average depth of 1.25 inches"},"$ ____________",{"$error":"#VALUE!"}]
[{"$f":"[1]Estimate!A108","v":4},{"$f":"[1]Estimate!B108","v":254},{"$f":"[1]Estimate!C108","v":220},{"$f":"[1]Estimate!D108","v":"SY"},{"$f":"[1]Estimate!E108","v":"Pavement Planing ( 20' milled including radius)"},"$ ____________",{"$error":"#VALUE!"}]
[{"$f":"[1]Estimate!A109","v":5},{"$f":"[1]Estimate!B109","v":614},{"$f":"[1]Estimate!C109","v":1},{"$f":"[1]Estimate!D109","v":"LS"},{"$f":"[1]Estimate!E109","v":"Maintaining Traffic"},"$ ____________",{"$error":"#VALUE!"}]
[{"$f":"[1]Estimate!A110","v":6},{"$f":"[1]Estimate!B110","v":624},{"$f":"[1]Estimate!C110","v":1},{"$f":"[1]Estimate!D110","v":"LS"},{"$f":"[1]Estimate!E110","v":"Mobilization"},"$ ____________",{"$error":"#VALUE!"}]
[{"$f":"[1]Estimate!A111","v":7},{"$f":"[1]Estimate!B111","v":642},{"$f":"[1]Estimate!C111","v":1},{"$f":"[1]Estimate!D111","v":"LS"},{"$f":"[1]Estimate!E111","v":"Contract Performance & Payment Bond"},"$ ____________",{"$error":"#VALUE!"}]
[{"$f":"[1]Estimate!#REF!","v":{"$error":"#REF!"}},{"$f":"[1]Estimate!#REF!","v":{"$error":"#REF!"}},{"$f":"[1]Estimate!#REF!","v":{"$error":"#REF!"}},{"$f":"[1]Estimate!#REF!","v":{"$error":"#REF!"}},{"$f":"[1]Estimate!#REF!","v":{"$error":"#REF!"}},"$ ____________","$ ______________"]
[{"$f":"[1]Estimate!#REF!","v":{"$error":"#REF!"}},{"$f":"[1]Estimate!#REF!","v":{"$error":"#REF!"}},{"$f":"[1]Estimate!#REF!","v":{"$error":"#REF!"}},{"$f":"[1]Estimate!#REF!","v":{"$error":"#REF!"}},{"$f":"[1]Estimate!#REF!","v":{"$error":"#REF!"}},"$ ____________","$ ______________"]
[{"$f":"[1]Estimate!#REF!","v":{"$error":"#REF!"}},{"$f":"[1]Estimate!#REF!","v":{"$error":"#REF!"}},{"$f":"[1]Estimate!#REF!","v":{"$error":"#REF!"}},{"$f":"[1]Estimate!#REF!","v":{"$error":"#REF!"}},{"$f":"[1]Estimate!#REF!","v":{"$error":"#REF!"}},"$ ____________","$ ______________"]
[{"$f":"[1]Estimate!#REF!","v":{"$error":"#REF!"}},{"$f":"[1]Estimate!#REF!","v":{"$error":"#REF!"}},{"$f":"[1]Estimate!#REF!","v":{"$error":"#REF!"}},{"$f":"[1]Estimate!#REF!","v":{"$error":"#REF!"}},{"$f":"[1]Estimate!#REF!","v":{"$error":"#REF!"}},"$ ____________","$ ______________"]
[{"$f":"[1]Estimate!#REF!","v":{"$error":"#REF!"}},{"$f":"[1]Estimate!#REF!","v":{"$error":"#REF!"}},{"$f":"[1]Estimate!#REF!","v":{"$error":"#REF!"}},{"$f":"[1]Estimate!#REF!","v":{"$error":"#REF!"}},{"$f":"[1]Estimate!#REF!","v":{"$error":"#REF!"}},"$ ____________","$ ______________"]
[{"$f":"[1]Estimate!#REF!","v":{"$error":"#REF!"}},{"$f":"[1]Estimate!#REF!","v":{"$error":"#REF!"}},{"$f":"[1]Estimate!#REF!","v":{"$error":"#REF!"}},{"$f":"[1]Estimate!#REF!","v":{"$error":"#REF!"}},{"$f":"[1]Estimate!#REF!","v":{"$error":"#REF!"}},"$ ____________","$ ______________"]
[{"$f":"[1]Estimate!#REF!","v":{"$error":"#REF!"}},{"$f":"[1]Estimate!#REF!","v":{"$error":"#REF!"}},{"$f":"[1]Estimate!#REF!","v":{"$error":"#REF!"}},{"$f":"[1]Estimate!#REF!","v":{"$error":"#REF!"}},{"$f":"[1]Estimate!#REF!","v":{"$error":"#REF!"}},"$ ____________","$ ______________"]
[{"$f":"[1]Estimate!#REF!","v":{"$error":"#REF!"}},{"$f":"[1]Estimate!#REF!","v":{"$error":"#REF!"}},{"$f":"[1]Estimate!#REF!","v":{"$error":"#REF!"}},{"$f":"[1]Estimate!#REF!","v":{"$error":"#REF!"}},{"$f":"[1]Estimate!#REF!","v":{"$error":"#REF!"}},"$ ____________","$ ______________"]
[{"$f":"[1]Estimate!#REF!","v":{"$error":"#REF!"}},{"$f":"[1]Estimate!#REF!","v":{"$error":"#REF!"}},{"$f":"[1]Estimate!#REF!","v":{"$error":"#REF!"}},{"$f":"[1]Estimate!#REF!","v":{"$error":"#REF!"}},{"$f":"[1]Estimate!#REF!","v":{"$error":"#REF!"}},"$ ____________","$ ______________"]
[{"$nulls":4},"Total Bid",null,{"$f":"SUM(G106:G112)","v":{"$error":"#VALUE!"}}]
[]
[]
["ROAD BIDDING BLANK"]
[]
["To:","Board of Commissioners"]
[null,{"$f":"B97","v":"Henry County Engineer"},null,null,null,{"$f":"F97","v":"3.10.26"}]
[null,"Henry County, Ohio"]
[]
[{"$f":"[1]Estimate!A121","v":"Road O7 from Road P to Road 16"}]
[{"$f":"[1]Estimate!A122","v":"Length:  2400 Feet or 0.45 Mile(s)"}]
[{"$f":"[1]Estimate!A123","v":"Width:  22 Feet     (Approx. 5885 S.Y. including radius and driveway work)"}]
[{"$f":"[1]Estimate!A124","v":"Type: ODOT Spec 823 "}]
[]
["Ref. #","Item","Quantity ","Unit","Description","Unit Price","Total Price"]
[{"$f":"[1]Estimate!A127","v":1},{"$f":"[1]Estimate!B127","v":407},{"$f":"[1]Estimate!C127","v":590},{"$f":"[1]Estimate!D127","v":"Gal"},{"$f":"[1]Estimate!E127","v":"Bituminous Tack Coat applied at 0.05 gallons per square yard"},"$ ____________",{"$f":"F137*C137","v":{"$error":"#VALUE!"}}]
[{"$f":"A137+1","v":2},{"$f":"[1]Estimate!B128","v":823},{"$f":"[1]Estimate!C128","v":246},{"$f":"[1]Estimate!D128","v":"CY"},{"$f":"[1]Estimate!E128","v":"Asphalt intermediate course PG 64-22, Type 1 (823) applied, spread and compacted at the average depth of 1.5 inches"},"$ ____________",{"$f":"F138*C138","v":{"$error":"#VALUE!"}}]
[{"$f":"[1]Estimate!A129","v":3},{"$f":"[1]Estimate!B129","v":823},{"$f":"[1]Estimate!C129","v":246},{"$f":"[1]Estimate!D129","v":"CY"},{"$f":"[1]Estimate!E129","v":"Asphalt concrete surface course PG 64-22, Type 1 (823) applied, spread and compacted at the average depth of 1.5 inches"},"$ ____________",{"$error":"#VALUE!"}]
[{"$f":"[1]Estimate!A130","v":4},{"$f":"[1]Estimate!B130","v":614},{"$f":"[1]Estimate!C130","v":1},{"$f":"[1]Estimate!D130","v":"LS"},{"$f":"[1]Estimate!E130","v":"Maintaining Traffic"},"$ ____________",{"$error":"#VALUE!"}]
[{"$f":"[1]Estimate!A131","v":5},{"$f":"[1]Estimate!B131","v":624},{"$f":"[1]Estimate!C131","v":1},{"$f":"[1]Estimate!D131","v":"LS"},{"$f":"[1]Estimate!E131","v":"Mobilization"},"$ ____________",{"$error":"#VALUE!"}]
[{"$f":"[1]Estimate!A132","v":6},{"$f":"[1]Estimate!B132","v":103.05},{"$f":"[1]Estimate!C132","v":1},{"$f":"[1]Estimate!D132","v":"LS"},{"$f":"[1]Estimate!E132","v":"Contract Performance & Payment Bond"},"$ ____________",{"$error":"#VALUE!"}]
[{"$f":"[1]Estimate!A133","v":7},{"$f":"[1]Estimate!B133","v":301},{"$f":"[1]Estimate!C133","v":978},{"$f":"[1]Estimate!D133","v":"CY"},{"$f":"[1]Estimate!E133","v":"Bituminous Aggregate Base (6\" average compacted depth)"},"$ ____________",{"$error":"#VALUE!"}]
[{"$f":"[1]Estimate!#REF!","v":{"$error":"#REF!"}},{"$f":"[1]Estimate!#REF!","v":{"$error":"#REF!"}},{"$f":"[1]Estimate!#REF!","v":{"$error":"#REF!"}},{"$f":"[1]Estimate!#REF!","v":{"$error":"#REF!"}},{"$f":"[1]Estimate!#REF!","v":{"$error":"#REF!"}},"$ ____________","$ ______________"]
[{"$f":"[1]Estimate!#REF!","v":{"$error":"#REF!"}},{"$f":"[1]Estimate!#REF!","v":{"$error":"#REF!"}},{"$f":"[1]Estimate!#REF!","v":{"$error":"#REF!"}},{"$f":"[1]Estimate!#REF!","v":{"$error":"#REF!"}},{"$f":"[1]Estimate!#REF!","v":{"$error":"#REF!"}},"$ ____________","$ ______________"]
[{"$f":"[1]Estimate!#REF!","v":{"$error":"#REF!"}},{"$f":"[1]Estimate!#REF!","v":{"$error":"#REF!"}},{"$f":"[1]Estimate!#REF!","v":{"$error":"#REF!"}},{"$f":"[1]Estimate!#REF!","v":{"$error":"#REF!"}},{"$f":"[1]Estimate!#REF!","v":{"$error":"#REF!"}},"$ ____________","$ ______________"]
[{"$f":"[1]Estimate!A134","v":0},{"$f":"[1]Estimate!B134","v":0},{"$f":"[1]Estimate!C134","v":0},{"$f":"[1]Estimate!D134","v":0},{"$f":"[1]Estimate!E134","v":"Estimate Total"},"$ ____________","$ ______________"]
[{"$f":"[1]Estimate!A135","v":0},{"$f":"[1]Estimate!B135","v":0},{"$f":"[1]Estimate!C135","v":0},{"$f":"[1]Estimate!D135","v":0},{"$f":"[1]Estimate!E135","v":0},"$ ____________","$ ______________"]
[{"$f":"[1]Estimate!#REF!","v":{"$error":"#REF!"}},{"$f":"[1]Estimate!#REF!","v":{"$error":"#REF!"}},{"$f":"[1]Estimate!#REF!","v":{"$error":"#REF!"}},{"$f":"[1]Estimate!#REF!","v":{"$error":"#REF!"}},{"$f":"[1]Estimate!#REF!","v":{"$error":"#REF!"}},"$ ____________","$ ______________"]
[{"$f":"[1]Estimate!#REF!","v":{"$error":"#REF!"}},{"$f":"[1]Estimate!#REF!","v":{"$error":"#REF!"}},{"$f":"[1]Estimate!#REF!","v":{"$error":"#REF!"}},{"$f":"[1]Estimate!#REF!","v":{"$error":"#REF!"}},{"$f":"[1]Estimate!#REF!","v":{"$error":"#REF!"}},"$ ____________","$ ______________"]
[{"$f":"[1]Estimate!#REF!","v":{"$error":"#REF!"}},{"$f":"[1]Estimate!#REF!","v":{"$error":"#REF!"}},{"$f":"[1]Estimate!#REF!","v":{"$error":"#REF!"}},{"$f":"[1]Estimate!#REF!","v":{"$error":"#REF!"}},{"$f":"[1]Estimate!#REF!","v":{"$error":"#REF!"}},"$ ____________","$ ______________"]
[{"$f":"[1]Estimate!#REF!","v":{"$error":"#REF!"}},{"$f":"[1]Estimate!#REF!","v":{"$error":"#REF!"}},{"$f":"[1]Estimate!#REF!","v":{"$error":"#REF!"}},{"$f":"[1]Estimate!#REF!","v":{"$error":"#REF!"}},{"$f":"[1]Estimate!#REF!","v":{"$error":"#REF!"}},"$ ____________","$ ______________"]
[{"$nulls":4},"Total Bid",null,{"$f":"SUM(G137:G143)","v":{"$error":"#VALUE!"}}]
[]
[]
["ROAD BIDDING BLANK"]
[]
["To:","Board of Commissioners"]
[null,{"$f":"B128","v":"Henry County Engineer"},null,null,null,{"$f":"F128","v":"3.10.26"}]
[null,"Henry County, Ohio"]
[]
[{"$f":"[1]Estimate!A143","v":"Road R from SR 108 to Oakwood"}]
[{"$f":"[1]Estimate!A144","v":"Length:  3540 Feet or 0.67 Mile(s)"}]
[{"$f":"[1]Estimate!A145","v":"Width:  20 Feet     (Approx. 7960 S.Y. including radius and driveway work)"}]
[{"$f":"[1]Estimate!A146","v":"Type: ODOT Spec 823 with Various Pavement Repairs "}]
[]
["Ref. #","Item","Quantity ","Unit","Description","Unit Price","Total Price"]
[{"$f":"[1]Estimate!A149","v":1},{"$f":"[1]Estimate!B149","v":202},{"$f":"[1]Estimate!C149","v":4},{"$f":"[1]Estimate!D149","v":"EA"},{"$f":"[1]Estimate!E149","v":"Remove & Relocate Mailbox/Paperbox"},"$ ____________",{"$f":"F168*C168","v":{"$error":"#VALUE!"}}]
[{"$f":"A168+1","v":2},{"$f":"[1]Estimate!B150","v":203},{"$f":"[1]Estimate!C150","v":109},{"$f":"[1]Estimate!D150","v":"CY"},{"$f":"[1]Estimate!E150","v":"Excavation (2' Widening north side, 5\" depth, 100% material layed over as additional embankment, not to be used in residential yards and Mailbox Turnout)"},"$ ____________",{"$f":"F169*C169","v":{"$error":"#VALUE!"}}]
[{"$f":"[1]Estimate!A151","v":3},{"$f":"[1]Estimate!B151","v":204},{"$f":"[1]Estimate!C151","v":785},{"$f":"[1]Estimate!D151","v":"SY"},{"$f":"[1]Estimate!E151","v":"Subgrade Compaction"},"$ ____________",{"$error":"#VALUE!"}]
[{"$f":"[1]Estimate!A152","v":4},{"$f":"[1]Estimate!B152","v":301},{"$f":"[1]Estimate!C152","v":109},{"$f":"[1]Estimate!D152","v":"CY"},{"$f":"[1]Estimate!E152","v":"Bituminous Aggregate Base, (5\" average compacted depth, includes 407 tack coat on vertical face)"},"$ ____________",{"$error":"#VALUE!"}]
[{"$f":"[1]Estimate!A153","v":5},{"$f":"[1]Estimate!B153","v":407},{"$f":"[1]Estimate!C153","v":800},{"$f":"[1]Estimate!D153","v":"Gal"},{"$f":"[1]Estimate!E153","v":"Bituminous Tack Coat applied at 0.05 gallons per square yard"},"$ ____________",{"$error":"#VALUE!"}]
[{"$f":"[1]Estimate!A154","v":6},{"$f":"[1]Estimate!B154","v":823},{"$f":"[1]Estimate!C154","v":111},{"$f":"[1]Estimate!D154","v":"C.Y."},{"$f":"[1]Estimate!E154","v":"Asphalt intermediate course PG 64-22, Type 1 (823) applied, spread and compacted at the average depth of 0.5 inches"},"$ ____________",{"$error":"#VALUE!"}]
[{"$f":"[1]Estimate!A155","v":7},{"$f":"[1]Estimate!B155","v":823},{"$f":"[1]Estimate!C155","v":276},{"$f":"[1]Estimate!D155","v":"C.Y."},{"$f":"[1]Estimate!E155","v":"Asphalt concrete surface course PG 64-22, Type 1 (823) applied, spread and compacted at the average depth of 1.25 inches"},"$ ____________",{"$error":"#VALUE!"}]
[{"$f":"[1]Estimate!A156","v":8},{"$f":"[1]Estimate!B156","v":254},{"$f":"[1]Estimate!C156","v":80},{"$f":"[1]Estimate!D156","v":"S.Y."},{"$f":"[1]Estimate!E156","v":"Pavement Planing (20' milled including radius)"},"$ ____________",{"$error":"#VALUE!"}]
[{"$f":"[1]Estimate!A157","v":9},{"$f":"[1]Estimate!B157","v":614},{"$f":"[1]Estimate!C157","v":1},{"$f":"[1]Estimate!D157","v":"L.S."},{"$f":"[1]Estimate!E157","v":"Maintaining Traffic"},"$ ____________",{"$error":"#VALUE!"}]
[{"$f":"[1]Estimate!A158","v":10},{"$f":"[1]Estimate!B158","v":624},{"$f":"[1]Estimate!C158","v":1},{"$f":"[1]Estimate!D158","v":"L.S."},{"$f":"[1]Estimate!E158","v":"Mobilization"},"$ ____________",{"$error":"#VALUE!"}]
[{"$f":"[1]Estimate!A159","v":11},{"$f":"[1]Estimate!B159","v":103.05},{"$f":"[1]Estimate!C159","v":1},{"$f":"[1]Estimate!D159","v":"L.S."},{"$f":"[1]Estimate!E159","v":"Contract Performance & Payment Bond"},"$ ____________",{"$error":"#VALUE!"}]
[{"$f":"[1]Estimate!A160","v":12},{"$f":"[1]Estimate!B160","v":""},{"$f":"[1]Estimate!C160","v":""},{"$f":"[1]Estimate!D160","v":""},{"$f":"[1]Estimate!E160","v":""},"$ ____________","$ ______________"]
[{"$f":"[1]Estimate!A161","v":13},{"$f":"[1]Estimate!B161","v":""},{"$f":"[1]Estimate!C161","v":""},{"$f":"[1]Estimate!D161","v":""},{"$f":"[1]Estimate!E161","v":""},"$ ____________","$ ______________"]
[{"$f":"[1]Estimate!A162","v":14},{"$f":"[1]Estimate!B162","v":""},{"$f":"[1]Estimate!C162","v":""},{"$f":"[1]Estimate!D162","v":""},{"$f":"[1]Estimate!E162","v":""},"$ ____________","$ ______________"]
[{"$f":"[1]Estimate!A163","v":15},{"$f":"[1]Estimate!B163","v":""},{"$f":"[1]Estimate!C163","v":""},{"$f":"[1]Estimate!D163","v":""},{"$f":"[1]Estimate!E163","v":""},"$ ____________","$ ______________"]
[{"$f":"[1]Estimate!A164","v":16},{"$f":"[1]Estimate!B164","v":""},{"$f":"[1]Estimate!C164","v":""},{"$f":"[1]Estimate!D164","v":""},{"$f":"[1]Estimate!E164","v":""},"$ ____________","$ ______________"]
[{"$nulls":4},"Total Bid",null,{"$f":"SUM(G168:G178)","v":{"$error":"#VALUE!"}}]
[]
[]
["ROAD BIDDING BLANK"]
[]
["To:","Board of Commissioners"]
[null,{"$f":"B159","v":"Henry County Engineer"},null,null,null,{"$f":"F159","v":"3.10.26"}]
[null,"Henry County, Ohio"]
[]
[{"$f":"[1]Estimate!A174","v":"Napoleon Twp- Road R1 from US 6 to 18"}]
[{"$f":"[1]Estimate!A175","v":"Length:  4015 Feet or 0.76 Mile(s)"}]
[{"$f":"[1]Estimate!A176","v":"Width:  17 Feet     (Approx. 7655 S.Y. including radius and driveway work)"}]
[{"$f":"[1]Estimate!A177","v":"Type: ODOT Spec 823 with Various Pavement Repairs "}]
[]
["Ref. #","Item","Quantity ","Unit","Description","Unit Price","Total Price"]
[{"$f":"[1]Estimate!A180","v":1},{"$f":"[1]Estimate!B180","v":202},{"$f":"[1]Estimate!C180","v":4},{"$f":"[1]Estimate!D180","v":"EA"},{"$f":"[1]Estimate!E180","v":"Remove & Relocate Mailbox/Paperbox"},"$ ____________",{"$f":"F199*C199","v":{"$error":"#VALUE!"}}]
[{"$f":"A199+1","v":2},{"$f":"[1]Estimate!B181","v":203},{"$f":"[1]Estimate!C181","v":465},{"$f":"[1]Estimate!D181","v":"CY"},{"$f":"[1]Estimate!E181","v":"Excavation (7.5' Widening 7.5 feet on south side and Mailbox Turnout)"},"$ ____________",{"$f":"F200*C200","v":{"$error":"#VALUE!"}}]
[{"$f":"[1]Estimate!A182","v":3},{"$f":"[1]Estimate!B182","v":204},{"$f":"[1]Estimate!C182","v":3345},{"$f":"[1]Estimate!D182","v":"SY"},{"$f":"[1]Estimate!E182","v":"Subgrade Compaction"},"$ ____________",{"$error":"#VALUE!"}]
[{"$f":"[1]Estimate!A183","v":4},{"$f":"[1]Estimate!B183","v":301},{"$f":"[1]Estimate!C183","v":465},{"$f":"[1]Estimate!D183","v":"CY"},{"$f":"[1]Estimate!E183","v":"Bituminous Aggregate Base, (5\" average compacted depth, includes 407 tack coat on vertical face)"},"$ ____________",{"$error":"#VALUE!"}]
[{"$f":"[1]Estimate!A184","v":5},{"$f":"[1]Estimate!B184","v":407},{"$f":"[1]Estimate!C184","v":770},{"$f":"[1]Estimate!D184","v":"Gal"},{"$f":"[1]Estimate!E184","v":"Bituminous Tack Coat applied at 0.05 gallons per square yard"},"$ ____________",{"$error":"#VALUE!"}]
[{"$f":"[1]Estimate!A185","v":6},{"$f":"[1]Estimate!B185","v":823},{"$f":"[1]Estimate!C185","v":106},{"$f":"[1]Estimate!D185","v":"C.Y."},{"$f":"[1]Estimate!E185","v":"Asphalt intermediate course PG 64-22, Type 1 (823) applied, spread and compacted at the average depth of 0.5 inches"},"$ ____________",{"$error":"#VALUE!"}]
[{"$f":"[1]Estimate!A186","v":7},{"$f":"[1]Estimate!B186","v":823},{"$f":"[1]Estimate!C186","v":266},{"$f":"[1]Estimate!D186","v":"C.Y."},{"$f":"[1]Estimate!E186","v":"Asphalt concrete surface course PG 64-22, Type 1 (823) applied, spread and compacted at the average depth of 1.25 inches"},"$ ____________",{"$error":"#VALUE!"}]
[{"$f":"[1]Estimate!A187","v":8},{"$f":"[1]Estimate!B187","v":617},{"$f":"[1]Estimate!C187","v":75},{"$f":"[1]Estimate!D187","v":"CY"},{"$f":"[1]Estimate!E187","v":"Stabilized crushed aggregate berm in place and compacted at the average depth of 2 inches"},"$ ____________",{"$error":"#VALUE!"}]
[{"$f":"[1]Estimate!A188","v":9},{"$f":"[1]Estimate!B188","v":254},{"$f":"[1]Estimate!C188","v":140},{"$f":"[1]Estimate!D188","v":"S.Y."},{"$f":"[1]Estimate!E188","v":"Pavement Planing (20' milled including radius)"},"$ ____________",{"$error":"#VALUE!"}]
[{"$f":"[1]Estimate!A189","v":10},{"$f":"[1]Estimate!B189","v":614},{"$f":"[1]Estimate!C189","v":1},{"$f":"[1]Estimate!D189","v":"L.S."},{"$f":"[1]Estimate!E189","v":"Maintaining Traffic"},"$ ____________",{"$error":"#VALUE!"}]
[{"$f":"[1]Estimate!A190","v":11},{"$f":"[1]Estimate!B190","v":624},{"$f":"[1]Estimate!C190","v":1},{"$f":"[1]Estimate!D190","v":"L.S."},{"$f":"[1]Estimate!E190","v":"Mobilization"},"$ ____________",{"$error":"#VALUE!"}]
[{"$f":"[1]Estimate!A191","v":12},{"$f":"[1]Estimate!B191","v":103.05},{"$f":"[1]Estimate!C191","v":1},{"$f":"[1]Estimate!D191","v":"L.S."},{"$f":"[1]Estimate!E191","v":"Contract Performance & Payment Bond"},"$ ____________",{"$error":"#VALUE!"}]
[{"$f":"[1]Estimate!A192","v":13},{"$f":"[1]Estimate!B192","v":209},{"$f":"[1]Estimate!C192","v":4015},{"$f":"[1]Estimate!D192","v":"Feet"},{"$f":"[1]Estimate!E192","v":"Linear Grading"},"$ ____________",{"$error":"#VALUE!"}]
[{"$f":"[1]Estimate!A193","v":14},{"$f":"[1]Estimate!B193","v":659},{"$f":"[1]Estimate!C193","v":2200},{"$f":"[1]Estimate!D193","v":"S.Y."},{"$f":"[1]Estimate!E193","v":"Seeding and Mulching"},"$ ____________",{"$error":"#VALUE!"}]
[{"$f":"[1]Estimate!A194","v":15},{"$f":"[1]Estimate!B194","v":659},{"$f":"[1]Estimate!C194","v":6},{"$f":"[1]Estimate!D194","v":"M. Gal"},{"$f":"[1]Estimate!E194","v":"Water"},"$ ____________",{"$error":"#VALUE!"}]
[{"$f":"[1]Estimate!A195","v":16},{"$f":"[1]Estimate!B195","v":659},{"$f":"[1]Estimate!C195","v":0.4},{"$f":"[1]Estimate!D195","v":"Ton"},{"$f":"[1]Estimate!E195","v":"Commercial Feritlizer"},"$ ____________",{"$error":"#VALUE!"}]
[{"$nulls":4},"Total Bid",null,{"$f":"SUM(G199:G214)","v":{"$error":"#VALUE!"}}]
[]
[]
["ROAD BIDDING BLANK"]
[]
["To:","Board of Commissioners"]
[null,{"$f":"B190","v":"Henry County Engineer"},null,null,null,{"$f":"F190","v":"3.10.26"}]
[null,"Henry County, Ohio"]
[]
[{"$f":"[1]Estimate!A205","v":"Henry County Fairgrounds"}]
[{"$f":"[1]Estimate!A206","v":"Paved Area:  Approx. 8382 S.Y."}]
[{"$f":"[1]Estimate!A207","v":"Width:  Varies"}]
[{"$f":"[1]Estimate!A208","v":"Type: ODOT Spec 823 "}]
[]
["Ref. #","Item","Quantity ","Unit","Description","Unit Price","Total Price"]
[{"$f":"[1]Estimate!A211","v":1},{"$f":"[1]Estimate!B211","v":407},{"$f":"[1]Estimate!C211","v":406},{"$f":"[1]Estimate!D211","v":"Gal"},{"$f":"[1]Estimate!E211","v":"Bituminous Tack Coat applied at 0.05 gallons per square yard"},"$ ____________",{"$f":"F230*C230","v":{"$error":"#VALUE!"}}]
[{"$f":"A230+1","v":2},{"$f":"[1]Estimate!B212","v":823},{"$f":"[1]Estimate!C212","v":26},{"$f":"[1]Estimate!D212","v":"C.Y."},{"$f":"[1]Estimate!E212","v":"Asphalt intermediate course PG 64-22, Type 1 (823) applied, spread and compacted at the average depth of 1.5 inches"},"$ ____________",{"$f":"F231*C231","v":{"$error":"#VALUE!"}}]
[{"$f":"[1]Estimate!A213","v":3},{"$f":"[1]Estimate!B213","v":823},{"$f":"[1]Estimate!C213","v":379},{"$f":"[1]Estimate!D213","v":"C.Y."},{"$f":"[1]Estimate!E213","v":"Asphalt concrete surface course PG 64-22, Type 1 (823) applied, spread and compacted at the average depth of 1.5 inches"},"$ ____________",{"$error":"#VALUE!"}]
[{"$f":"[1]Estimate!A214","v":4},{"$f":"[1]Estimate!B214","v":254},{"$f":"[1]Estimate!C214","v":607},{"$f":"[1]Estimate!D214","v":"S.Y."},{"$f":"[1]Estimate!E214","v":"Pavement Planing 3\" depth (includes 12' wide stone drive/ road)"},"$ ____________",{"$error":"#VALUE!"}]
[{"$f":"[1]Estimate!A215","v":5},{"$f":"[1]Estimate!B215","v":614},{"$f":"[1]Estimate!C215","v":1},{"$f":"[1]Estimate!D215","v":"L.S."},{"$f":"[1]Estimate!E215","v":"Maintaining Traffic"},"$ ____________",{"$error":"#VALUE!"}]
[{"$f":"[1]Estimate!A216","v":6},{"$f":"[1]Estimate!B216","v":624},{"$f":"[1]Estimate!C216","v":1},{"$f":"[1]Estimate!D216","v":"L.S."},{"$f":"[1]Estimate!E216","v":"Mobilization"},"$ ____________",{"$error":"#VALUE!"}]
[{"$f":"[1]Estimate!A217","v":7},{"$f":"[1]Estimate!B217","v":103.05},{"$f":"[1]Estimate!C217","v":1},{"$f":"[1]Estimate!D217","v":"L.S."},{"$f":"[1]Estimate!E217","v":"Contract Performance & Payment Bond"},"$ ____________",{"$error":"#VALUE!"}]
[{"$f":"[1]Estimate!A218","v":8},{"$f":"[1]Estimate!B218","v":253},{"$f":"[1]Estimate!C218","v":55},{"$f":"[1]Estimate!D218","v":"C.Y."},{"$f":"[1]Estimate!E218","v":"Pavement Repair and Widening - After Removal of Any Soft Areas Found After Planing (excavate area and place 6\" of 304 aggregate and compact in place)"},"$ ____________",{"$error":"#VALUE!"}]
[{"$f":"[1]Estimate!A219","v":9},{"$f":"[1]Estimate!B219","v":254},{"$f":"[1]Estimate!C219","v":7775},{"$f":"[1]Estimate!D219","v":"S.Y."},{"$f":"[1]Estimate!E219","v":"Pavement Planing 1.5\" depth"},"$ ____________",{"$error":"#VALUE!"}]
[{"$f":"[1]Estimate!A220","v":10},{"$f":"[1]Estimate!B220","v":""},{"$f":"[1]Estimate!C220","v":""},{"$f":"[1]Estimate!D220","v":""},{"$f":"[1]Estimate!E220","v":""},"$ ____________","$ ______________"]
[{"$f":"[1]Estimate!A221","v":11},{"$f":"[1]Estimate!B221","v":""},{"$f":"[1]Estimate!C221","v":""},{"$f":"[1]Estimate!D221","v":""},{"$f":"[1]Estimate!E221","v":""},"$ ____________","$ ______________"]
[{"$f":"[1]Estimate!A222","v":12},{"$f":"[1]Estimate!B222","v":""},{"$f":"[1]Estimate!C222","v":""},{"$f":"[1]Estimate!D222","v":""},{"$f":"[1]Estimate!E222","v":""},"$ ____________","$ ______________"]
[{"$f":"[1]Estimate!A223","v":13},{"$f":"[1]Estimate!B223","v":""},{"$f":"[1]Estimate!C223","v":""},{"$f":"[1]Estimate!D223","v":""},{"$f":"[1]Estimate!E223","v":""},"$ ____________","$ ______________"]
[{"$f":"[1]Estimate!A224","v":14},{"$f":"[1]Estimate!B224","v":""},{"$f":"[1]Estimate!C224","v":""},{"$f":"[1]Estimate!D224","v":""},{"$f":"[1]Estimate!E224","v":""},"$ ____________","$ ______________"]
[{"$f":"[1]Estimate!A225","v":15},{"$f":"[1]Estimate!B225","v":""},{"$f":"[1]Estimate!C225","v":""},{"$f":"[1]Estimate!D225","v":""},{"$f":"[1]Estimate!E225","v":""},"$ ____________","$ ______________"]
[{"$nulls":4},"Total Bid",null,{"$f":"SUM(G230:G238)","v":{"$error":"#VALUE!"}}]
[]
[]
["ROAD BIDDING BLANK"]
[]
["To:","Board of Commissioners"]
[null,{"$f":"B221","v":"Henry County Engineer"},null,null,null,{"$f":"F221","v":"3.10.26"}]
[null,"Henry County, Ohio"]
[]
[{"$f":"[1]Estimate!A235","v":"ALTERNATE- HC Fairgrounds:Parking Areas"}]
[{"$f":"[1]Estimate!A236","v":"Paved Area:  Approx. 3298 S.Y."}]
[{"$f":"[1]Estimate!A237","v":"Width:  Varies"}]
[{"$f":"[1]Estimate!A238","v":"Type: ODOT Spec 823 "}]
[]
["Ref. #","Item","Quantity ","Unit","Description","Unit Price","Total Price"]
[{"$f":"[1]Estimate!A241","v":1},{"$f":"[1]Estimate!B241","v":407},{"$f":"[1]Estimate!C241","v":165},{"$f":"[1]Estimate!D241","v":"Gal"},{"$f":"[1]Estimate!E241","v":"Bituminous Tack Coat applied at 0.05 gallons per square yard"},"$ ____________",{"$f":"F260*C260","v":{"$error":"#VALUE!"}}]
[{"$f":"[1]Estimate!A242","v":2},{"$f":"[1]Estimate!B242","v":823},{"$f":"[1]Estimate!C242","v":138},{"$f":"[1]Estimate!D242","v":"C.Y."},{"$f":"[1]Estimate!E242","v":"Asphalt concrete surface course PG 64-22, Type 1 (823) applied, spread and compacted at the average depth of 1.5 inches"},"$ ____________",{"$f":"F261*C261","v":{"$error":"#VALUE!"}}]
[{"$f":"[1]Estimate!A243","v":3},{"$f":"[1]Estimate!B243","v":254},{"$f":"[1]Estimate!C243","v":3298},{"$f":"[1]Estimate!D243","v":"S.Y."},{"$f":"[1]Estimate!E243","v":"Pavement Planing 1.5\" depth"},"$ ____________",{"$f":"F262*C262","v":{"$error":"#VALUE!"}}]
[{"$nulls":4},"Total Bid",null,{"$f":"SUM(G260:G262)","v":{"$error":"#VALUE!"}}]
[]
[{"$nulls":4},"Total Entire Bid",{"$f":"G29+G60+G91+G122+G184+G215+G245","v":{"$error":"#VALUE!"}}]
[]
[{"$nulls":4},"Total Entire Bid with Alternate",{"$f":"G263+G245+G215+G184+G122+G91+G60+G29","v":{"$error":"#VALUE!"}}]